BEGIN:VCALENDAR
VERSION:2.0
PRODID:-//CLEMENS SCHULE – Christliche Privatschulen Weinstadt - ECPv6.15.13.1//NONSGML v1.0//EN
CALSCALE:GREGORIAN
METHOD:PUBLISH
X-WR-CALNAME:CLEMENS SCHULE – Christliche Privatschulen Weinstadt
X-ORIGINAL-URL:https://www.clemens.schule
X-WR-CALDESC:Veranstaltungen für CLEMENS SCHULE – Christliche Privatschulen Weinstadt
REFRESH-INTERVAL;VALUE=DURATION:PT1H
X-Robots-Tag:noindex
X-PUBLISHED-TTL:PT1H
BEGIN:VTIMEZONE
TZID:Europe/Berlin
BEGIN:DAYLIGHT
TZOFFSETFROM:+0100
TZOFFSETTO:+0200
TZNAME:CEST
DTSTART:20160327T010000
END:DAYLIGHT
BEGIN:STANDARD
TZOFFSETFROM:+0200
TZOFFSETTO:+0100
TZNAME:CET
DTSTART:20161030T010000
END:STANDARD
BEGIN:DAYLIGHT
TZOFFSETFROM:+0100
TZOFFSETTO:+0200
TZNAME:CEST
DTSTART:20170326T010000
END:DAYLIGHT
BEGIN:STANDARD
TZOFFSETFROM:+0200
TZOFFSETTO:+0100
TZNAME:CET
DTSTART:20171029T010000
END:STANDARD
BEGIN:DAYLIGHT
TZOFFSETFROM:+0100
TZOFFSETTO:+0200
TZNAME:CEST
DTSTART:20180325T010000
END:DAYLIGHT
BEGIN:STANDARD
TZOFFSETFROM:+0200
TZOFFSETTO:+0100
TZNAME:CET
DTSTART:20181028T010000
END:STANDARD
END:VTIMEZONE
BEGIN:VEVENT
DTSTART;TZID=Europe/Berlin:20171220T090000
DTEND;TZID=Europe/Berlin:20171220T130000
DTSTAMP:20260420T234701
CREATED:20171213T031233Z
LAST-MODIFIED:20171213T032552Z
UID:1468-1513760400-1513774800@www.clemens.schule
SUMMARY:Realschul-Ausflug: Schlittschuhlaufen
DESCRIPTION:Am Mittwoch\, den 20.12.17 wollen wir mit den Realschülerinnen und Realschülern Schlittschuhlaufen gehen. Wir sind in der Halle in Esslingen angemeldet. Bitte geben Sie Ihrem Sohn/Ihrer Tochter den Anmeldeabschnitt mit den Eintrittskosten (und ggf. das Geld für das Zugticket) bis zum 15.12.17 in die Schule mit. \nTreffpunkt: 09:00 Uhr am Schulhaus\nAnkunft: voraussichtlich um 13 Uhr in Endersbach\nZugticket: 4\,00 €\nEintritt: 2\,50 € \nDie Schülerinnen und Schüler benötigen warme Kleidung\, Handschuhe und eine Mütze. Schutzkleidung und eigene Schlittschuhe dürfen gerne mitgenommen werden. Falls keine eigenen Schlittschuhe vorhanden sind\, können welche vor Ort ausgeliehen werden. Ihr Kind ist dann selbst für die Ausleihe verantwortlich und muss dort 3\,00 € selbst bezahlen.
URL:https://www.clemens.schule/termin/realschul-ausflug-schlittschuhlaufen/
LOCATION:Eisstadion Esslingen\, Inselstraße\, Esslingen\, 73730\, Deutschland
CATEGORIES:Ausflug
END:VEVENT
END:VCALENDAR