BEGIN:VCALENDAR
VERSION:2.0
PRODID:-//CLEMENS SCHULE – Christliche Privatschulen Weinstadt - ECPv6.15.13.1//NONSGML v1.0//EN
CALSCALE:GREGORIAN
METHOD:PUBLISH
X-ORIGINAL-URL:https://www.clemens.schule
X-WR-CALDESC:Veranstaltungen für CLEMENS SCHULE – Christliche Privatschulen Weinstadt
REFRESH-INTERVAL;VALUE=DURATION:PT1H
X-Robots-Tag:noindex
X-PUBLISHED-TTL:PT1H
BEGIN:VTIMEZONE
TZID:Europe/Berlin
BEGIN:DAYLIGHT
TZOFFSETFROM:+0100
TZOFFSETTO:+0200
TZNAME:CEST
DTSTART:20230326T010000
END:DAYLIGHT
BEGIN:STANDARD
TZOFFSETFROM:+0200
TZOFFSETTO:+0100
TZNAME:CET
DTSTART:20231029T010000
END:STANDARD
BEGIN:DAYLIGHT
TZOFFSETFROM:+0100
TZOFFSETTO:+0200
TZNAME:CEST
DTSTART:20240331T010000
END:DAYLIGHT
BEGIN:STANDARD
TZOFFSETFROM:+0200
TZOFFSETTO:+0100
TZNAME:CET
DTSTART:20241027T010000
END:STANDARD
BEGIN:DAYLIGHT
TZOFFSETFROM:+0100
TZOFFSETTO:+0200
TZNAME:CEST
DTSTART:20250330T010000
END:DAYLIGHT
BEGIN:STANDARD
TZOFFSETFROM:+0200
TZOFFSETTO:+0100
TZNAME:CET
DTSTART:20251026T010000
END:STANDARD
BEGIN:DAYLIGHT
TZOFFSETFROM:+0100
TZOFFSETTO:+0200
TZNAME:CEST
DTSTART:20260329T010000
END:DAYLIGHT
BEGIN:STANDARD
TZOFFSETFROM:+0200
TZOFFSETTO:+0100
TZNAME:CET
DTSTART:20261025T010000
END:STANDARD
BEGIN:DAYLIGHT
TZOFFSETFROM:+0100
TZOFFSETTO:+0200
TZNAME:CEST
DTSTART:20270328T010000
END:DAYLIGHT
BEGIN:STANDARD
TZOFFSETFROM:+0200
TZOFFSETTO:+0100
TZNAME:CET
DTSTART:20271031T010000
END:STANDARD
END:VTIMEZONE
BEGIN:VEVENT
DTSTART;TZID=Europe/Berlin:20260316T170000
DTEND;TZID=Europe/Berlin:20260316T200000
DTSTAMP:20260419T151204
CREATED:20260304T072243Z
LAST-MODIFIED:20260304T072243Z
UID:5869-1773680400-1773691200@www.clemens.schule
SUMMARY:Frühjahrsfortbildung für Erzieher/Erzieherinnen in der Kita und U3 Bereich
DESCRIPTION:Frühjahrsfortbildung 2026\nFür Erzieher / Erzieherinnen in der Kita und U3 Bereich \nMontag: 16.03.2026\nUhrzeit: 17.00 – 20.00 Uhr\nIn der Aula der Clemens Schule \nLeitung: Dipl. Rhythmikerin Heike Lutzeyer\nUnkostenbeitrag: 30 Euro \nAnmeldung bitte direkt bei der Referentin: \nLutzeyer@gmx.de \nFreuen Sie sich auf einen inspirierenden Abend\, an dem wir gemeinsam den Frühling begrüßen. Grundlage ist der Bilderbuchklassiker „Etwas von den Wurzelkindern“.\nSie lernen leicht umsetzbare Spiele\, Tänze\, Lieder und Handgestenspiele kennen\, die Tiere\, Blumen und die Sonne zum Leben erwecken. Mit Orff-Instrumenten und klassischer Musik lassen wir die Frühlingswiese erklingen.\nBewegung\, kindgerechte Tänze\, einfache Instrumente und vielfältige Materialien stehen im Mittelpunkt. Ergänzt wird das Programm durch neue Kreisspiele\, Malgeschichten sowie Ideen für Ruhe und Entspannung.\nAlle Inhalte sind praxisnah und sofort einsetzbar. Ein Fortbildungsskript erhalten Sie dazu.\nBitte mitbringen: Bequeme Kleidung\, Turnschuhe\, Schreibzeug\, Getränke\, Decke\nIch freue mich sehr auf diesen Abend und auf ein Wiedersehen\,\nIhre Heike Lutzeyer
URL:https://www.clemens.schule/termin/fruehjahrsfortbildung-fuer-erzieher-erzieherinnen-in-der-kita-und-u3-bereich/
CATEGORIES:Aktion,Information
END:VEVENT
BEGIN:VEVENT
DTSTART;TZID=Europe/Berlin:20260316T134500
DTEND;TZID=Europe/Berlin:20260316T164500
DTSTAMP:20260419T151204
CREATED:20260311T085443Z
LAST-MODIFIED:20260311T085443Z
UID:5887-1773668700-1773679500@www.clemens.schule
SUMMARY:Kochwerkstatt - In der Osterbäckerei
DESCRIPTION:Mo 16.03.26 von 13.45 – 16.45 Uhr \nKinder-Backkurs 8-13 Jahre \nIn der schönen Osterzeit macht Backen viel Freude und in diesem Kurs werden wir leckeres Ostergebäck und köstliche Muffins backen und verzieren! \nDabei hören wir fröhliche Kindermusik und genießen leckeren Früchtetee! \nAnmeldeformulare finden Sie unter: Kurse – CLEMENS SCHULE – Christliche Privatschulen Weinstadt \nOrt: Lehrküche Clemens Schule; Preis pro Kurs: 30 € plus 8 € für die Lebensmittel
URL:https://www.clemens.schule/termin/kochwerkstatt-in-der-osterbaeckerei/
CATEGORIES:Aktion,Information
END:VEVENT
BEGIN:VEVENT
DTSTART;TZID=Europe/Berlin:20260310T183000
DTEND;TZID=Europe/Berlin:20260310T210000
DTSTAMP:20260419T151204
CREATED:20260303T073711Z
LAST-MODIFIED:20260304T074116Z
UID:5856-1773167400-1773176400@www.clemens.schule
SUMMARY:Veranstaltung: Digitaler Durchblick 10.3.2026
DESCRIPTION:Zwischen TikTok-Trends und Gaming-Faszination: Wie begleiten wir unsere Kinder sicher durch die digitale Welt? \nViele Kinder verbringen heute so viel Zeit online wie noch nie. Doch was passiert eigentlich genau bei TikTok oder Brawl Stars? Ab wann sind Instagram und Snapchat okay? Was tun bei Cybermobbing? Und wie viel Bildschirmzeit ist eigentlich noch gesund? \nDie Digitaltrainerin Monika Rath (Team Daniel Wolff\, Spiegel-Bestseller „Allein mit dem Handy“) gibt Ihnen wichtige Informationen für einen konfliktarmen Umgang mit Medien an die Hand. \n\nWann der richtige Zeitpunkt für das erste Smartphone ist?\nWelche Einstellungen bei WhatsApp und Spotify wichtig sind?\nWie Sie Ihre Kinder vor Gefahren wie Sexting und Mobbing schützen?\n\nWir laden Sie herzlich zu einem spannenden und praxisnahen Informationsabend ein\, um genau diese Fragen zu klären und praktische Tipps\, die Sie direkt mit Ihren Kindern ausprobieren können. \nWann: Dienstag\, 10. März 2026 \nBeginn: 18:30 Uhr \nWo: Christuszentrum Weinstadt – Heinkelstraße 47 \nGut zu wissen: Der Abend ist ausdrücklich auch für Eltern gedacht\, deren Kinder noch kein Smartphone besitzen!
URL:https://www.clemens.schule/termin/veranstaltung-digitaler-durchblick-10-3-2026/
CATEGORIES:Aktion,Information
ATTACH;FMTTYPE=image/jpeg:https://www.clemens.schule/wp-content/uploads/2026/03/Digitaler-Durchblick-I-Eltern.jpg
END:VEVENT
BEGIN:VEVENT
DTSTART;TZID=Europe/Berlin:20260206T140000
DTEND;TZID=Europe/Berlin:20260206T170000
DTSTAMP:20260419T151204
CREATED:20211011T100204Z
LAST-MODIFIED:20251020T085608Z
UID:3949-1770386400-1770397200@www.clemens.schule
SUMMARY:Anmeldetag Realschule - 06.02.2026
DESCRIPTION:Verbindlicher Anmeldetermin für die Realschule. Termine werden über das Sekretariat vergeben.
URL:https://www.clemens.schule/termin/anmeldetag-realschule-06-02-2026/
CATEGORIES:Aktion,Information
END:VEVENT
BEGIN:VEVENT
DTSTART;TZID=Europe/Berlin:20260205T140000
DTEND;TZID=Europe/Berlin:20260205T170000
DTSTAMP:20260419T151204
CREATED:20240913T083306Z
LAST-MODIFIED:20251020T085510Z
UID:5031-1770300000-1770310800@www.clemens.schule
SUMMARY:Anmeldetag Realschule - 05.02.2026
DESCRIPTION:Verbindlicher Anmeldetermin für die Realschule. Termine werden über das Sekretariat vergeben.
URL:https://www.clemens.schule/termin/anmeldetag-realschule-05-02-2026/
CATEGORIES:Aktion,Information
END:VEVENT
BEGIN:VEVENT
DTSTART;TZID=Europe/Berlin:20260131T090000
DTEND;TZID=Europe/Berlin:20260131T170000
DTSTAMP:20260419T151204
CREATED:20240111T094032Z
LAST-MODIFIED:20251016T061753Z
UID:4730-1769850000-1769878800@www.clemens.schule
SUMMARY:Anmeldetag Grundschule 31.01.2026
DESCRIPTION:Verbindlicher Anmeldetermin für die Grundschule.
URL:https://www.clemens.schule/termin/anmeldetag-grundschule-31-01-2026/
CATEGORIES:Aktion,Information
END:VEVENT
BEGIN:VEVENT
DTSTART;TZID=Europe/Berlin:20260128T140000
DTEND;TZID=Europe/Berlin:20260128T160000
DTSTAMP:20260419T151204
CREATED:20201218T104450Z
LAST-MODIFIED:20251015T101507Z
UID:3633-1769608800-1769616000@www.clemens.schule
SUMMARY:Realschule-Schnuppertag 28.01.2026
DESCRIPTION:Du möchtest gerne die Clemens Realschule kennen lernen?\nDann komm vorbei zum Schnuppernachmittag am\n28.01.2026 von 14 – 16 Uhr\nDu triffst Schüler\, Lehrer und bekommst in verschiedenen Räumen Einblicke in die Unterrichtsfächer.\nDie Veranstaltung endet gegen 16 Uhr mit einer gemeinsamen Andacht in unserer Aula.\nFragen? Komm einfach vorbei und bring deine Eltern gleich mit. Eine Anmeldung ist nicht nötig.\nWir freuen uns auf dich.
URL:https://www.clemens.schule/termin/realschule-schnuppertag-28-01-2026/
CATEGORIES:Aktion,Information
END:VEVENT
BEGIN:VEVENT
DTSTART;TZID=Europe/Berlin:20260119T200000
DTEND;TZID=Europe/Berlin:20260119T213000
DTSTAMP:20260419T151204
CREATED:20251015T095524Z
LAST-MODIFIED:20251015T100315Z
UID:5644-1768852800-1768858200@www.clemens.schule
SUMMARY:Infoabend Grundschule - 19.1.2026
DESCRIPTION:In der CLEMENS SCHULE verbinden wir christliche Werte mit dem Bildungsplan – eine optimale Kombination\, die nachhaltig wirkt. Lernen Sie kennen\, was uns auszeichnet. Bei dieser Gelegenheit können Sie auch mit Lehrern\, Erziehern und Schuleltern ins Gespräch kommen. \nKommen Sie einfach vorbei – eine Anmeldung ist nicht nötig. Beginn ist um 20.00 Uhr in der Aula. \nUm 19.00 Uhr findet eine Schulhausführung statt.
URL:https://www.clemens.schule/termin/infoabend-grundschule-19-1-2026/
CATEGORIES:Aktion,Information
END:VEVENT
BEGIN:VEVENT
DTSTART;TZID=Europe/Berlin:20260119T190000
DTEND;TZID=Europe/Berlin:20260119T200000
DTSTAMP:20260419T151204
CREATED:20251015T100450Z
LAST-MODIFIED:20251016T062738Z
UID:5651-1768849200-1768852800@www.clemens.schule
SUMMARY:Hausführung - 19.1.2026
DESCRIPTION:Die Hausführung startet um 19 Uhr.
URL:https://www.clemens.schule/termin/hausfuehrung-19-1-2026/
CATEGORIES:Aktion,Information
END:VEVENT
BEGIN:VEVENT
DTSTART;TZID=Europe/Berlin:20251206T110000
DTEND;TZID=Europe/Berlin:20251206T160000
DTSTAMP:20260419T151204
CREATED:20221019T073414Z
LAST-MODIFIED:20250919T102653Z
UID:4274-1765018800-1765036800@www.clemens.schule
SUMMARY:Adventsmarkt mit Weihnachtsbaumverkauf 2025
DESCRIPTION:Herzliche Einladung zu unserem Weihnachtsbaumverkauf mit Adventsmarkt in der Clemens Schule! \nKommen Sie gerne am 6. Dezember zwischen 11.00 – 16.00 Uhr bei uns vorbei und kaufen Sie unsere Weihnachtsbäume\, die frisch geschlagen aus unserer Region kommen. \nFür das leibliche Wohl ist bestens gesorgt. Es wird wieder kulinarische Köstlichkeiten\, Gebäck & Punsch geben. \nDer Adventsmarkt bietet weihnachtliche Dekorationen\, Geschenke und Kunsthandwerk. \nUm 12.00\, 13.00\, 14.00 & 15.00 Uhr gibt es Führungen durch die Realschule\, Grundschule\, Kita und den Hort.
URL:https://www.clemens.schule/termin/adventsmarkt-mit-weihnachtsbaumverkauf-2025/
CATEGORIES:Aktion,Fest,Information
END:VEVENT
BEGIN:VEVENT
DTSTART;TZID=Europe/Berlin:20251119T180000
DTEND;TZID=Europe/Berlin:20251119T210000
DTSTAMP:20260419T151204
CREATED:20230929T064609Z
LAST-MODIFIED:20251107T123926Z
UID:4606-1763575200-1763586000@www.clemens.schule
SUMMARY:Pray Day - 19.11.2025
DESCRIPTION:Am 19.11.2025 haben wir wieder Gelegenheit für unsere Clemens Schule zu beten. \nWir treffen uns um 18.00 Uhr in der Aula der Clemens Schule. \nSchüler\, Lehrer und Mitarbeiter der Clemens Schule werden diesen Gebetstag vorbereiten mit Gebetsinseln\, aktuellen Gebetsanliegen und viel Dank an unseren großartigen Gott\, der diese Schule möglich gemacht hat. \nKaum ein anderer Ort prägt Kinder und Jugendliche so stark wie die Schule. Schüler wie Lehrer\, Erzieher\, Sekretärinnen\, unsere Teaching Assistants und FSJ-ler brauchen Gebet für die täglich neuen Herausforderungen im Lebensraum Schule. Jeder ist eingeladen\, die Schule neu in den Blick zu nehmen – ganz egal ob man Kinder im Schulalter hat\, an einer Schule arbeitet oder selbst zur Schule geht.
URL:https://www.clemens.schule/termin/pray-day-19-11-2025/
CATEGORIES:Aktion,Information
END:VEVENT
BEGIN:VEVENT
DTSTART;TZID=Europe/Berlin:20251112T200000
DTEND;TZID=Europe/Berlin:20251112T213000
DTSTAMP:20260419T151204
CREATED:20240927T091802Z
LAST-MODIFIED:20250919T094810Z
UID:5077-1762977600-1762983000@www.clemens.schule
SUMMARY:Infoabend Grundschule - 12.11.2025
DESCRIPTION:In der CLEMENS SCHULE verbinden wir christliche Werte mit dem Bildungsplan – eine optimale Kombination\, die nachhaltig wirkt. Lernen Sie kennen\, was uns auszeichnet. Bei dieser Gelegenheit können Sie auch mit Lehrern\, Erziehern und Schuleltern ins Gespräch kommen. \nKommen Sie einfach vorbei – eine Anmeldung ist nicht nötig. Beginn ist um 20.00 Uhr in der Aula. \nUm 19.00 Uhr findet eine Schulhausführung statt.
URL:https://www.clemens.schule/termin/infoabend-grundschule-12-11-2025/
CATEGORIES:Aktion,Information
END:VEVENT
BEGIN:VEVENT
DTSTART;TZID=Europe/Berlin:20251112T190000
DTEND;TZID=Europe/Berlin:20251112T200000
DTSTAMP:20260419T151204
CREATED:20251015T074549Z
LAST-MODIFIED:20251015T074549Z
UID:5640-1762974000-1762977600@www.clemens.schule
SUMMARY:Hausführung - 12.11.2025
DESCRIPTION:Start um 19.00 Uhr.
URL:https://www.clemens.schule/termin/hausfuehrung-12-11-2025/
CATEGORIES:Aktion,Information
END:VEVENT
BEGIN:VEVENT
DTSTART;TZID=Europe/Berlin:20251110T200000
DTEND;TZID=Europe/Berlin:20251110T213000
DTSTAMP:20260419T151204
CREATED:20240913T075814Z
LAST-MODIFIED:20250919T094419Z
UID:5023-1762804800-1762810200@www.clemens.schule
SUMMARY:Infoabend Realschule 10.11.2025
DESCRIPTION:In der CLEMENS SCHULE verbinden wir christliche Werte mit dem Bildungsplan – eine optimale Kombination\, die nachhaltig wirkt. Lernen Sie kennen\, was uns auszeichnet. Bei dieser Gelegenheit können Sie auch mit Lehrern\, Erziehern und Schuleltern ins Gespräch kommen. \nKommen Sie einfach vorbei – eine Anmeldung ist nicht nötig. Beginn ist um 20.00 Uhr in der Aula. \nUm 19.00 Uhr findet eine Schulhausführung statt.
URL:https://www.clemens.schule/termin/infoabend-realschule-11-11-2024/
CATEGORIES:Aktion,Information
END:VEVENT
BEGIN:VEVENT
DTSTART;TZID=Europe/Berlin:20251110T190000
DTEND;TZID=Europe/Berlin:20251110T200000
DTSTAMP:20260419T151204
CREATED:20251015T074658Z
LAST-MODIFIED:20251015T074658Z
UID:5642-1762801200-1762804800@www.clemens.schule
SUMMARY:Hausführung - 10.11.2025
DESCRIPTION:Start um 19.00 Uhr.
URL:https://www.clemens.schule/termin/hausfuehrung-10-11-2025/
CATEGORIES:Aktion,Information
END:VEVENT
BEGIN:VEVENT
DTSTART;TZID=Europe/Berlin:20251007T140000
DTEND;TZID=Europe/Berlin:20251007T163000
DTSTAMP:20260419T151204
CREATED:20250919T103538Z
LAST-MODIFIED:20250919T103538Z
UID:5607-1759845600-1759854600@www.clemens.schule
SUMMARY:Sponsorenlauf 2025
DESCRIPTION:
URL:https://www.clemens.schule/termin/sponsorenlauf-2025/
CATEGORIES:Aktion,Information
END:VEVENT
BEGIN:VEVENT
DTSTART;TZID=Europe/Berlin:20250930T193000
DTEND;TZID=Europe/Berlin:20250930T213000
DTSTAMP:20260419T151204
CREATED:20250919T101800Z
LAST-MODIFIED:20250919T102037Z
UID:5602-1759260600-1759267800@www.clemens.schule
SUMMARY:19:30 Uhr\, Elternabend 8. Kl. - 10. Kl
DESCRIPTION:
URL:https://www.clemens.schule/termin/1930-uhr-elternabend-8-kl-10-kl/
CATEGORIES:Information
END:VEVENT
BEGIN:VEVENT
DTSTART;TZID=Europe/Berlin:20250923T193000
DTEND;TZID=Europe/Berlin:20250923T213000
DTSTAMP:20260419T151204
CREATED:20250919T072730Z
LAST-MODIFIED:20250919T072730Z
UID:5595-1758655800-1758663000@www.clemens.schule
SUMMARY:19:30 Uhr\, Elternabend 5. Kl. - 7. Kl
DESCRIPTION:
URL:https://www.clemens.schule/termin/1930-uhr-elternabend-5-kl-7-kl/
CATEGORIES:Information
END:VEVENT
BEGIN:VEVENT
DTSTART;TZID=Europe/Berlin:20250730T110000
DTEND;TZID=Europe/Berlin:20250730T123000
DTSTAMP:20260419T151204
CREATED:20240927T094657Z
LAST-MODIFIED:20240927T094657Z
UID:5096-1753873200-1753878600@www.clemens.schule
SUMMARY:Abschlussgottesdienst - 30.7.2025
DESCRIPTION:Der Abschlussgottesdienst für die Grundschule findet in der Missionsgemeinde statt.
URL:https://www.clemens.schule/termin/abschlussgottesdienst-30-7-2025/
CATEGORIES:Aktion,Information
END:VEVENT
BEGIN:VEVENT
DTSTART;TZID=Europe/Berlin:20250718T170000
DTEND;TZID=Europe/Berlin:20250718T183000
DTSTAMP:20260419T151204
CREATED:20240927T094128Z
LAST-MODIFIED:20250714T062151Z
UID:5092-1752858000-1752863400@www.clemens.schule
SUMMARY:Abschlussfeier Realschule - 18.7.2025
DESCRIPTION:Die Feier findet in der Missionsgemeinde statt.
URL:https://www.clemens.schule/termin/abschlussfeier-realschule-18-7-2025/
CATEGORIES:Aktion,Information
END:VEVENT
BEGIN:VEVENT
DTSTART;TZID=Europe/Berlin:20250704T160000
DTEND;TZID=Europe/Berlin:20250704T200000
DTSTAMP:20260419T151204
CREATED:20240205T084749Z
LAST-MODIFIED:20250611T094015Z
UID:4799-1751644800-1751659200@www.clemens.schule
SUMMARY:Sommerfest - 10 Jahre Realschule
DESCRIPTION:Flyer: Clemens Realschule Einladung 10 Jahre
URL:https://www.clemens.schule/termin/sommerfest-10-jahre-realschule/
CATEGORIES:Fest,Information
ATTACH;FMTTYPE=image/jpeg:https://www.clemens.schule/wp-content/uploads/2024/02/Flyer_CS_10-Jahre-scaled.jpg
END:VEVENT
BEGIN:VEVENT
DTSTART;TZID=Europe/Berlin:20250628T110000
DTEND;TZID=Europe/Berlin:20250628T120000
DTSTAMP:20260419T151204
CREATED:20240927T093910Z
LAST-MODIFIED:20240927T093910Z
UID:5090-1751108400-1751112000@www.clemens.schule
SUMMARY:Schulhausführung - 28.6.2025
DESCRIPTION:Start um 11 Uhr mit einer gemeinsamen Führung durch unsere CLEMENS SCHULE. \nKommen Sie mit Ihren Fragen und schauen Sie die Clemens Schule und den Hort von innen an. Sprechen Sie mit unseren Mitarbeitern und erfahren Sie mehr über den Schulalltag\, die pädagogische Konzeption an der Schule und im Hort. \nAlle Interessierte sind herzlich eingeladen. Eine Anmeldung ist nicht erforderlich – einfach vorbeikommen.
URL:https://www.clemens.schule/termin/schulhausfuehrung-28-6-2025/
CATEGORIES:Aktion,Information
END:VEVENT
BEGIN:VEVENT
DTSTART;TZID=Europe/Berlin:20250522T170000
DTEND;TZID=Europe/Berlin:20250522T210000
DTSTAMP:20260419T151204
CREATED:20250512T065403Z
LAST-MODIFIED:20250512T070107Z
UID:5382-1747933200-1747947600@www.clemens.schule
SUMMARY:Infoveranstaltung Hort - 22.05.2025
DESCRIPTION:Herzliche Einladung zur Hort Infoveranstaltung \nam 22.05.2025 um 17.00 Uhr \nin der Aula der CLEMENS SCHULE. \nFolgende Inhalte erwarten Sie in der Infoveranstaltung: \n– Vorstellung der neuen Module\n– Konzeptionelle Veränderung – feste Abholzeiten bei bestimmten Modulen\n– Vorstellung neuer Hort-Vertrag\n– Vorstellung der Modulpreise ab 01.09.2025\n– Fragen/Austausch \nAb 16:30 Uhr besteht die Möglichkeit sich in der Mensa bei Kaffee und Gebäck zu begegnen. \nWir bieten ab 16:30 Uhr für Kinder ab dem 3. Lebensjahr in unseren Horträumen bis zum Ende der Infoveranstaltung Kinderbetreuung an. Sollten Sie das Kinderbetreuungsangebot in Anspruch nehmen wollen\, dann bitten wir um eine kurze Nachricht an sekretariat@clemens.schule mit der Anzahl der Kinder und des Alters. \nWir freuen uns auf den Austausch mit Ihnen.
URL:https://www.clemens.schule/termin/infoveranstaltung-hort-22-05-2025/
CATEGORIES:Aktion,Information
END:VEVENT
BEGIN:VEVENT
DTSTART;TZID=Europe/Berlin:20250510T110000
DTEND;TZID=Europe/Berlin:20250510T120000
DTSTAMP:20260419T151204
CREATED:20240927T093737Z
LAST-MODIFIED:20240927T093737Z
UID:5088-1746874800-1746878400@www.clemens.schule
SUMMARY:Schulhausführung - 10.5.2025
DESCRIPTION:Start um 11 Uhr mit einer gemeinsamen Führung durch unsere CLEMENS SCHULE. \nKommen Sie mit Ihren Fragen und schauen Sie die Clemens Schule und den Hort von innen an. Sprechen Sie mit unseren Mitarbeitern und erfahren Sie mehr über den Schulalltag\, die pädagogische Konzeption an der Schule und im Hort. \nAlle Interessierte sind herzlich eingeladen. Eine Anmeldung ist nicht erforderlich – einfach vorbeikommen.
URL:https://www.clemens.schule/termin/schulhausfuehrung-10-5-2025/
END:VEVENT
BEGIN:VEVENT
DTSTART;VALUE=DATE:20250411
DTEND;VALUE=DATE:20250412
DTSTAMP:20260419T151204
CREATED:20240927T093537Z
LAST-MODIFIED:20241129T085012Z
UID:5086-1744329600-1744415999@www.clemens.schule
SUMMARY:Mitarbeitertag - 11.4.2025
DESCRIPTION:An diesem Tag finden keine Schule und keine Betreuung statt.
URL:https://www.clemens.schule/termin/mitarbeitertag-11-4-2025/
END:VEVENT
BEGIN:VEVENT
DTSTART;TZID=Europe/Berlin:20250410T110000
DTEND;TZID=Europe/Berlin:20250410T123000
DTSTAMP:20260419T151204
CREATED:20240927T093146Z
LAST-MODIFIED:20240927T095139Z
UID:5082-1744282800-1744288200@www.clemens.schule
SUMMARY:Ostergottesdienst - 10.4.205
DESCRIPTION:Der Ostergottesdienst für die Grundschule findet in der Missionsgemeinde statt.
URL:https://www.clemens.schule/termin/ostergottesdienst-10-4-205/
CATEGORIES:Aktion,Information
END:VEVENT
BEGIN:VEVENT
DTSTART;TZID=Europe/Berlin:20250312T190000
DTEND;TZID=Europe/Berlin:20250312T200000
DTSTAMP:20260419T151204
CREATED:20250311T102945Z
LAST-MODIFIED:20250311T102950Z
UID:5311-1741806000-1741809600@www.clemens.schule
SUMMARY:12.03.2025 - Impulsvortrag: Lerntherapie/Lernförderung
DESCRIPTION:Was ist Lerntherapie? \nLerntherapie unterstützt Kinder mit Lernschwierigkeiten\, wie Legasthenie oder Dyskalkulie. Im Gegensatz zur Nachhilfe\, die Unterrichtsstoff nachholt\, fokussiert sie auf individuelle Lernprozesse und Strategien. \nWem hilft Lerntherapie? \nSie hilft Kindern\, die trotz normaler Intelligenz Schwierigkeiten haben\, Lerninhalte zu verstehen. \nWann sollte man Lerntherapie in Betracht ziehen? \nWenn ein Kind wiederholt schulische Schwierigkeiten hat\, die sein Selbstbewusstsein und seine Motivation beeinträchtigen. \nUnsere Referenten (beide in Lerntherapeutischer Praxis tätig) erläutern Ursachen von Lernstörungen und deren Folgen\, sowie Wege zur Unterbrechung der Abwärtsspirale. \nIm Anschluss können gerne Fragen gestellt werden. \nWo: CLEMENS SCHULE\, Ziegeleistr. 39\, Weinstadt\nWann: 12. März 2025\nStart: 19.00 Uhr
URL:https://www.clemens.schule/termin/12-03-2025-impulsvortrag-lerntherapie-lernfoerderung/
CATEGORIES:Information
END:VEVENT
BEGIN:VEVENT
DTSTART;TZID=Europe/Berlin:20250120T193000
DTEND;TZID=Europe/Berlin:20250120T200000
DTSTAMP:20260419T151204
CREATED:20240927T092817Z
LAST-MODIFIED:20240927T095029Z
UID:5079-1737401400-1737403200@www.clemens.schule
SUMMARY:Schulhausführung - 20.1.2025
DESCRIPTION:Start um 19.30Uhr mit einer gemeinsamen Führung durch unsere Schule. Kommen Sie mit Ihren Fragen und schauen Sie die Grundschule und den Hort von innen an. Sprechen Sie mit unseren Mitarbeitern und erfahren Sie mehr über den Schulalltag. \nAb 20.00 Uhr geht es mit dem Informationsabend für die Grundschule weiter. \nAlle Interessierte sind herzlich eingeladen. Eine Anmeldung ist nicht erforderlich – einfach vorbeikommen.
URL:https://www.clemens.schule/termin/schulhausfuehrung-20-1-2025/
CATEGORIES:Aktion,Information
END:VEVENT
BEGIN:VEVENT
DTSTART;TZID=Europe/Berlin:20241220T110000
DTEND;TZID=Europe/Berlin:20241220T120000
DTSTAMP:20260419T151204
CREATED:20240927T090505Z
LAST-MODIFIED:20240927T093351Z
UID:5073-1734692400-1734696000@www.clemens.schule
SUMMARY:Weihnachtsgottesdienst - 20.12.2024
DESCRIPTION:Der Weihnachtsgottesdienst für die Grundschule findet in der Missionsgemeinde statt.
URL:https://www.clemens.schule/termin/weihnachtsgottesdienst-gs-20-12-2024/
CATEGORIES:Aktion,Information
END:VEVENT
BEGIN:VEVENT
DTSTART;TZID=Europe/Berlin:20241129T193000
DTEND;TZID=Europe/Berlin:20241129T210000
DTSTAMP:20260419T151204
CREATED:20240927T085255Z
LAST-MODIFIED:20240927T095417Z
UID:5070-1732908600-1732914000@www.clemens.schule
SUMMARY:Adventskranzbinden - 29.11.2024
DESCRIPTION:
URL:https://www.clemens.schule/termin/adventskranzbinden-29-11-2024/
CATEGORIES:Aktion,Information
END:VEVENT
END:VCALENDAR